BEGIN:VCALENDAR
VERSION:2.0
PRODID:-//Guru Ram Das Aquarian Academy - ECPv6.15.15//NONSGML v1.0//EN
CALSCALE:GREGORIAN
METHOD:PUBLISH
X-ORIGINAL-URL:https://www.guru-ram-das-aquarian-academy.com
X-WR-CALDESC:Veranstaltungen für Guru Ram Das Aquarian Academy
REFRESH-INTERVAL;VALUE=DURATION:PT1H
X-Robots-Tag:noindex
X-PUBLISHED-TTL:PT1H
BEGIN:VTIMEZONE
TZID:Europe/Berlin
BEGIN:DAYLIGHT
TZOFFSETFROM:+0100
TZOFFSETTO:+0200
TZNAME:CEST
DTSTART:20230326T010000
END:DAYLIGHT
BEGIN:STANDARD
TZOFFSETFROM:+0200
TZOFFSETTO:+0100
TZNAME:CET
DTSTART:20231029T010000
END:STANDARD
BEGIN:DAYLIGHT
TZOFFSETFROM:+0100
TZOFFSETTO:+0200
TZNAME:CEST
DTSTART:20240331T010000
END:DAYLIGHT
BEGIN:STANDARD
TZOFFSETFROM:+0200
TZOFFSETTO:+0100
TZNAME:CET
DTSTART:20241027T010000
END:STANDARD
BEGIN:DAYLIGHT
TZOFFSETFROM:+0100
TZOFFSETTO:+0200
TZNAME:CEST
DTSTART:20250330T010000
END:DAYLIGHT
BEGIN:STANDARD
TZOFFSETFROM:+0200
TZOFFSETTO:+0100
TZNAME:CET
DTSTART:20251026T010000
END:STANDARD
BEGIN:DAYLIGHT
TZOFFSETFROM:+0100
TZOFFSETTO:+0200
TZNAME:CEST
DTSTART:20260329T010000
END:DAYLIGHT
BEGIN:STANDARD
TZOFFSETFROM:+0200
TZOFFSETTO:+0100
TZNAME:CET
DTSTART:20261025T010000
END:STANDARD
BEGIN:DAYLIGHT
TZOFFSETFROM:+0100
TZOFFSETTO:+0200
TZNAME:CEST
DTSTART:20270328T010000
END:DAYLIGHT
BEGIN:STANDARD
TZOFFSETFROM:+0200
TZOFFSETTO:+0100
TZNAME:CET
DTSTART:20271031T010000
END:STANDARD
END:VTIMEZONE
BEGIN:VEVENT
DTSTART;TZID=Europe/Berlin:20251229T160000
DTEND;TZID=Europe/Berlin:20260101T150000
DTSTAMP:20260420T224246
CREATED:20250928T013451Z
LAST-MODIFIED:20251031T204717Z
UID:15522-1767024000-1767279600@www.guru-ram-das-aquarian-academy.com
SUMMARY:International Sikh Dharma New Year`s Retreat 2025/26
DESCRIPTION:Spirituelles Silvester in der Guru Ram Das Aquarian Academy! \nKüche\, Gurdwara\, Yogaraum\, und Nivaas (Community Haus mit Kid`s Corner) stehen allen YogiNis und Yogi Sikhs offen\, die Zeit in Gemeinschaft verbringen wollen. Genauso allen neugierigen und zukünftigen YogiNis\, die Lust haben\, mit uns Zeit zu verbringen\, Aquarian Sadhana zu machen\, tief zu meditieren\, zu chanten und gemeinsam Musik zu machen\, in der neuen SAUNA zu sitzen\, spazierenzugehen im Biosphärenreservat\, zusammen zu kochen\,… Mit dabei sind Sat Hari Singh\, Prem Kaur\, Fateh Singh\, Guru Amrit Kaur\, Guru Dev Kaur und Gäste. \nSikh Dharma wird bei uns YogiNis nicht so sehr als Religion verstanden\, sondern vielmehr als ein Lifestyle\, der uns in unserer spirituellen Ent-wicklung zu bewussten und erfüllt lebenden und wirkenden Menschen unterstützt. \nKids Welcome! \nIm Nivaas gibt es auch ein Kids Corner. \nWer hat Lust\, KoordinatorIn und AnsprechpartnerIn zu sein für alle Eltern und andere Yogi*nis\, die sich inspiriert fühlen\, gemeinsam die Kids zu betreuen?  \nWer hat Lust\, als KüchenchefIn das Seva in der Küche zu koordinieren?  \nFür beide Verantwortlichkeiten gibt es einen Discount (Kids 50%\, Küche 75%)\, wenn gewünscht! \nMeld dich bei uns! \nGerne mitbringen: Gesellschafts & Brettspiele\, Kartenspiele\, Spielzeug für draußen (Bälle\, Frisbee\, Wikinger Schach etc.)\, evtl. Knaller für Kids\,.. \nInternational Sikh Dharma New Year`s Retreat Program\n\nMonday 29\n \n16:00 Arrival *(Y) \n17:00 Welcome Vegetable Soup & Bread *(Y) \n18:30 Mantra Circle *(G) \n19:00 Talking Circle – Begrüßungsrunde – Sharing *(G) \n20:30 Kirtan Sohela \nTuesday 30\n \n5:00 Aquarian Sadhana (Yoga & Mantra Meditation *Y) \n7:30 Gurduara Kirtan *(G) \n9:00 Breakfast & Seva *(Y) \n10:30 Shabd Guru Workshop  *(Y) \n12:30 Meditation (Y) \n13:30 Lunch & Seva\, time for walks\, music practice\, meditation\, games with kids \n16:00 Healing Hands Workshop  *(G) \n18:00 Light Dinner & Seva *(Y) \n19:30 Talking Circle  *(G) \n21:00 Jai Tegang Shabd Kirtan *(G) \nWednesday 31 \n5:00 Aquarian Sadhana (JapJi Sahib\, Yoga mit Amrit K. & Mantra Meditationen mit Guru Dev *Y) \n7:30 Gurduara Kirtan *(G) \n9:00 Breakfast & Seva *(Y) \n11:00 Neues Jahr – Dich Neu Gebären: Rebirthing *(Y &/od. G)      \n12:00 Meditation *(G) \n13:15 Seva & Lunch\, time for walks\, music practice\, meditation\, games with kids\, rest \n16:00  Seva\, Simran\, Sangat as a pathway into the new year  (G)      \n18:00 Light Dinner & Seva *(Y) \n20:00 Angel Cards with Guru Amrit *(G) \n20:00 New Year`s Eve Dancing/Clubbing *(Y)\, \n20:00 Fire Works with Kids (Field Outside) \n21:45 Seva – Preparation Silvester Gurduara (Decoration\, Prashaad) (Kitchen/*G) \n22:30 Silvester Gurdwara Celebration *(G) \nThursday 1 \n6:00 New Year`s Sadhana (no Zoom) incl. 62min. Meditation *(G) \n9:00 Breakfast & Seva *(Y) \n11:00 New Year`s Morning Gurdwara Celebration *(G) \n13:00 Langar Lunch \n13:45 Seva/Clean Up *(Y) \n15:00 Good-Bye \n*(Y) = Yoga Room\n*(G) = Gurduara \nEs gibt viel Raum zum miteinander Sein\, gemeinsam Musik machen\, meditieren\, spazierengehen\, am Feuer sitzen\, Karma Yoga oder Seva machen und selbstorganisierte Redekreise etc. Wenn du selbst etwas zum Thema Sikh Dharma beitragen möchtest\, oder dich in bestimmten Bereichen oder mit deinen besonderen Talenten an bestimmter Stelle einbringen möchtest (Workshops\, Musizieren\, Gatka\, Yoga\, Kochen\,..)\, dann melde dich gerne unter satnam@guru-ram-das-aquarian-academy.com. \nÜbernachtung: Wir haben eine gemütliche Haus-Community mit 1- bis 5-Bett-Zimmern und 2 Gemeinschaftsbädern in unserem Nivaas direkt nebenan in der Kleinen Wallstr. 8 für insgesamt bis zu ca. 25 Personen. Es ist ein einfaches\, aber wundervoll gemütliches Gemeinschafts-Zuhause für alle Yogi*nis und Gäste\, eine einzigartige Mischung aus Zen- und Berghütten-Flair. Wenn das Nivaas ausgebucht ist\, melden wir uns und helfen dir\, auf Zimmer und Apartments in der Altstadt auszuweichen. \nWenn wir mit deiner verbindlichen Registrierung innerhalb von 24 Stunden nichts Weiteres von dir hören\, merken wir dich verbindlich für einen Platz im Nivaas vor. \nBitte informiere uns deshalb umgehend\, falls du nicht im Nivaas übernachten möchtest\, z.B. wenn du dir ein Einzelzimmer oder ein Doppelzimmer für die Zeit wünschst. Suche dir gerne selbst eines in der Altstadt oder melde dich\, damit wir dich bei der Suche unterstützen können (satnam@guru-ram-das-aquarian-academy.com). Wir vermitteln Schlafplätze und Zimmer intern & extern nur nach regulärer Anmeldung. Bitte erkundige dich selbst nach Hausordnung oder Stornierungsbedingungen der externen Anbieter. \nDein finanz. Beitrag (incl. 2 Mahlzeiten/Tag):  \nAlle (ab 15 Jahre) Regulär: 190€\nAlle (ab 15 Jahre) We-Want-You-To-Come: 120€\nSupporter: 260€\nKinder (3-14 Jahre) 60€\nKinder (bis 2 Jahre kostenlos bei ÜN im Bett/Zimmer der Eltern\, bitte eventuelles „Lager“ selbst mitbringen) \nzzgl. Übernachtung im Nivaas: ab 98€/3 ÜN/Person (incl. Bettwäsche\, Handtücher). Kinder (3-14 Jahre) zahlen nur 54€/3 ÜN/Kind incl. \nWir wollen die Kosten bewusst niedrig halten\, damit alle kommen können. Wenn du den regulären Beitrag zahlen kannst\, sind die Kosten gedeckt. Diejenigen\, die etwas mehr haben\, sind eingeladen\, den Supporter Beitrag zu zahlen oder über Paypal oder vor Ort zu spenden. Alle helfen dabei mit\, die Kids zu betreuen\, immer wieder aufzuräumen und die Mahlzeiten zuzubereiten. Wenn du Lust und Inspiration hast\, dich umfangreicher einzubringen\, kannst du deinen Beitrag ganz (als Koch oder Köchin) oder teilweise (Küche\, Kids) durch deine Mithilfe leisten. Wenn du kommen willst\, melde dich auf jedenfall bei uns.
URL:https://www.guru-ram-das-aquarian-academy.com/termine/new-year-25-26/
LOCATION:Guru Ram Das Aquarian Academy\, Kleine Wallstr. 7\, Boizenburg/Elbe\, 19258\, Deutschland
CATEGORIES:ACADEMY,Gurdwara,Main Events,Regelmäßige Veranstaltungen,Special
ATTACH;FMTTYPE=image/png:https://www.guru-ram-das-aquarian-academy.com/wp-content/uploads/2025/09/Int.SD_.Retreat25.26.2.png
ORGANIZER;CN="Guru Ram Das Aquarian Academy":MAILTO:satnam@guru-ram-das-aquarian-academy.com
GEO:40.602991;-73.959517
X-APPLE-STRUCTURED-LOCATION;VALUE=URI;X-ADDRESS=Guru Ram Das Aquarian Academy Kleine Wallstr. 7 Boizenburg/Elbe 19258 Deutschland;X-APPLE-RADIUS=500;X-TITLE=Kleine Wallstr. 7:geo:-73.959517,40.602991
END:VEVENT
BEGIN:VEVENT
DTSTART;TZID=Europe/Berlin:20250418T110000
DTEND;TZID=Europe/Berlin:20250420T160000
DTSTAMP:20260420T224246
CREATED:20230331T105818Z
LAST-MODIFIED:20250416T094420Z
UID:12832-1744974000-1745164800@www.guru-ram-das-aquarian-academy.com
SUMMARY:Kundalini Frühlings-Retreat
DESCRIPTION:Sat Nam Kundalini YogiNis! \nAn diesem Kundalini Frühlings Retreat Wochenende möchten wir Frühlingsenergie gemeinsam geniessen\, die Sonne auf den Elbwiesen\, gemeinsam Yoga machen\, meditieren und chanten und zusammen kochen und essen\,… \nDieses Wochenende ist aber auch ein Familien Retreat\, an dem explizit Kinder und Jugendliche eingeladen sind\, dabeizusein. Die Eltern von den kleinen Kindern und die Kids und Jugendlichen\, die da sind\, organisieren sich selbst. \nFeiere mit uns zusammen dieses wunderbare Fest des äußeren und inneren Frühlings. \nWir machen alle Seva und meditieren begleitend im Sahej Paath\, helfen mit\, das Essen zuzubereiten und die Räume sauberzuhalten\, Tee zu kochen etc. \nMelde dich\, wenn du kommen möchtest\, aber nicht das ganze Wochenende dabeisein kannst:  satnam@guru-ram-das-aquarian-academy.com \nBitte registriere dich ansonsten so schnell wie möglich\, damit wir planen können. Sat Nam. \nSA. 19. April 18 – 21:00   \nMantra Konzert mit Harimandir & anschließendes Festessen mit Chillout \nTeilnahme offen für Alle\, Nicht-Retreat-TeilnehmerInnen willkommen! \nSpenden 20€ – 50€ nach eigenem Ermessen\nKinder/Teenager – 16 Jahre frei\nFreitag\, 19. April:\n11:30\nWelcome Home\n\n14:00\nLunch\n\n16:00\nHealing Vibrations – KY & Meditation mit Guru Dev K.\n\n18:00\nDinner\n19:30 – 21:00\nChanting Circle am Feuer mit Harimandir\, Sat Hari\, Gurudev\, Fateh Singh\,…\nSamstag\, 20. April:\n5:00\nAquarian Sadhana live mit Sangat\n\n9:00\nFrühstück & Gurdwara Seva\n10:30\n„Willst du auf dem Weg der Liebe mit mir gehen\, komme mit deinem Kopf in der Hand und kümmere dich nicht darum\, was die anderen denken..“\n– mit Harimandir\, Sat Hari Singh\, Guru Dev Kaur\n\n13:00\nLunch\n\n15:00\nElbwanderung & Picknick\n\n18:00Mantra Konzert mit Harimandir\n\n19:30 – 21:00\nFestessen und Chill Out\n\nSonntag\, 20. April:\n5:00\nAquarian Sadhana live mit Harimandir\n\n9:00\nFrühstück & Gurdwara Seva\n10:30\nBaisaakhi Gurdwara Kirtan & Katha – mit Harimandir\, Sat Hari Singh\, Guru Dev Kaur\, Kirtan Piara\, Fateh S. u.a. \n13:00\nBaisaakhi Festessen &\nSeva\, Chill-Out\, im Hof Tee trinken\, Musik machen\, Gatka\, sich gegenseitig die Füße massieren\, Spaziergang an der Elbe\,…\n...Mehr über die Frühlings-Fest Tradition im KY\nFrühlings-Ernte-Fest wird seit Jahrhunderten in Nord Indien gefeiert als „Baisakhi Fest“. Insbesondere die Sikhs\, die dort zuhause sind und traditionell Landwirtschaft betreiben\, haben eine lange Tradition\, dieses Fest jedes Jahr zu feiern.\n1699 ludt GuruGobind Singh die Sikh Sangat ein\, sich zum Baisaakhi Fest in Anandpur Sahib zu versammeln\, das zu diesem Zeitpunkt eine Festung der Sikhs war.\nIn dieser Zeit war die Sangat\, vielleicht wie unsere Kundalini Sangat heute\, eine Mischung sehr vieler sehr unterschiedlicher Menschen aus allen Bereichen der Gesellschaft. Es waren Musiker\, Landwirte\, Yogis und Asketen\, Geschäftsleute\, Krieger und diverseste weitere Gruppen aus allen Schichten der Gesellschaft\, Menschen\, die unglaublichste Reichtümer besaßen\, aber auch die Ärmsten. Sie allen kamen aus den unterschiedlichsten religiösen Gruppen\, sprachen verschiedenste Sprachen und Dialekte und hatten die unterschiedlichsten kulturellen Hintergründe in einem generell korrupten und unmenschlichen System. Die Sangat\, damals wie heute\, größtenteils unstrukturiert und auch gewohnt\, durch große Herausforderungen zu gehen – unglaublich kraftvoll in ihrer Praxis und Hingabe\, aber sich ihrer Größe und Kraft überhaupt nicht bewusst.  \nGuru Gobind Singh stellte im Frühjahr 1699 eine sehr ungewöhnliche Forderung: „Schenkt mir euren Kopf!“. Einer nach dem anderen entschieden sich nur sehr wenige Schüler\, dem Guru zu vertrauen und jedesmal\, wenn einer von ihnen mit dem Guru im Zelt verschwunden war\, kam der Guru mit einem blutigen Schwert alleine wieder heraus und fragte nach einem weiteren Kopf. Viele in der riesengroßen Ansammlung von Menschen\, die kamen\, um mit dem Guru zu feiern\, dachten\, er sei verrückt geworden\, bekamen es mit der Angst zu tun und verließen den Platz.  \nNachdem fünf Männer ins Zelt getreten waren\, trat der Guru mit ihnen allen vors Zelt und stellte sie in ihrer neuen Identität als Khalsa-Sikhs der Sangat vor. \nSie bekamen mit ihrem neuen Commitment\, das sie ganz aus sich selbst heraus und entgegen aller Warnungen ihres Verstandes eingegangen waren\, die Namen Singh oder Kaur („Löwe“ oder „Prinzessin“). Dadurch überwanden sie die Begrenzungen des Kastensystems\, das bis dahin jeden „bürgerlichen“ Namen prägte. \nDie Khalsa-Sikhs bezogen sich jetzt bewusst und ausschließlich auf eine höhere Ordnung als die der Herrschenden und ihrem korrupten Gesellschaftssystem\, aber auch auf eine höhere Ordnung als ihr begrenztes Ego-Bewusstsein. \nDieser Akt der inneren Befreiung dieser 5\, und ihnen nachfolgend vieler weiterer Menschen\, erlaubt uns noch heute den freien Zugang zu den universellen Teachings des Yoga und der kosmischen Weisheit und lebendigen spirituellen Kraft des Siri Guru Granth an nahezu jedem Ort dieser Welt. \nSogar der Guru hat sich an diesem Tag dann von den „5 Geliebten“ für ein Leben als Khalsa segnen lassen (Amrit Taufe). \nIndem Khalsa-Sikhs von nun an die „5 K“ tragen  – Kanga (Kamm)\, Katchera ( Lange Baumwollunterhose)\, Kirpan (Dolch)\, Kara (eiserner Armreif)\, Kesh (langes Haar) – ist ihre Entscheidung für ein Leben aus dem Höheren Bewusstsein auch für alle anderen Menschen ersichtlich. \nFinanz. Beitrag fürs Wochenende incl. 7 yogische Mahlzeiten: \n120€ (excl. Übernachtung) decken die Veranstaltungskosten. \nWenn du in unserem Nivaas übernachten möchtest (ab 30€/Nacht)\, lass es uns in jedem Fall wissen\, da die Übernachtungsmöglichkeiten begrenzt sind (satnam@guru-ram -das-aquarian-academy.com). Auch besondere Wünsche können dann geäußert werden und wir können euch rechtzeitig Tips geben für Alternativen in der Nähe.
URL:https://www.guru-ram-das-aquarian-academy.com/termine/spring-retreat-25/
LOCATION:Guru Ram Das Aquarian Academy\, Kleine Wallstr. 7\, Boizenburg/Elbe\, 19258\, Deutschland
CATEGORIES:ACADEMY,Main Events
ATTACH;FMTTYPE=image/jpeg:https://www.guru-ram-das-aquarian-academy.com/wp-content/uploads/2023/03/HariMandir.jpg
ORGANIZER;CN="Guru Ram Das Aquarian Academy":MAILTO:satnam@guru-ram-das-aquarian-academy.com
GEO:40.602991;-73.959517
X-APPLE-STRUCTURED-LOCATION;VALUE=URI;X-ADDRESS=Guru Ram Das Aquarian Academy Kleine Wallstr. 7 Boizenburg/Elbe 19258 Deutschland;X-APPLE-RADIUS=500;X-TITLE=Kleine Wallstr. 7:geo:-73.959517,40.602991
END:VEVENT
BEGIN:VEVENT
DTSTART;TZID=Europe/Berlin:20241228T160000
DTEND;TZID=Europe/Berlin:20250101T150000
DTSTAMP:20260420T224246
CREATED:20241008T001658Z
LAST-MODIFIED:20241222T174940Z
UID:14844-1735401600-1735743600@www.guru-ram-das-aquarian-academy.com
SUMMARY:Sikh Dharma Sylvester Retreat 2024/25
DESCRIPTION:Spirituelles Sylvester in der Guru Ram Das Aquarian Academy! \nKüche\, Gurdwara\, Yogaraum\, und Nivaas (Community Haus mit Kid`s Corner) stehen allen YogiNis und Yogi Sikhs offen\, die endlich mal wieder Zeit in Gemeinschaft verbringen wollen. Genauso allen neugierigen und zukünftigen YogiNis\, die Lust haben\, mit uns Zeit zu verbringen\, Aquarian Sadhana zu machen\, tief zu meditieren\, zu chanten und gemeinsam Musik zu machen\, spazierenzugehen im Biosphärenreservat\, zusammen zu kochen\,… Mit dabei sind Fateh Singh\, Amrit Kaur\, Sat Hari Singh\, Sita Priti Kaur\, Guru Amrit Kaur & Guru Dev Kaur. \nSikh Dharma wird bei uns YogiNis nicht so sehr als Religion verstanden\, sondern vielmehr als ein Lifestyle\, der uns in unserer spirituellen Ent-wicklung zu bewussten und erfüllt lebenden und wirkenden Menschen unterstützt. \nKids Welcome! \nIm Nivaas gibt es auch ein Kids Corner. Dort sind u.a. Guru Amrit Kaur & Sat Siri Ansprechpartnerinnen für alle Eltern und andere Yogi*nis\, die sich inspiriert fühlen\, gemeinsam die Kids zu betreuen.\nGerne mitbringen: Gesellschafts & Brettspiele\, Kartenspiele\, Spielzeug für draußen (Bälle\, Frisbee\, Wikinger Schach etc.)\, evtl. Knaller für Kids\,.. \nSilvester Retreat Programm\nSamstag 28\n16:00 Arrival *(Y) \n17:00 Welcome Vegetable Soup & Bread *(Y) \n18:30 Mantra Circle *(G) \n19:00 Talking Circle – Begrüßungsrunde – Sharing *(G) \n20:30 Kirtan Sohela \nSonntag 29 \n5:00 Aquarian Sadhana (Yoga & Mantra Meditation mit Sat Hari Singh\, *Y) \n7:30 Gurduara Kirtan *(G) \n9:00 Breakfast & Seva *(Y) \n10:30 Neues Jahr – Dich Neu Gebären: Rebirthing mit Guru Dev  *(Y) \n12:30 Meditation mit Guru Dev (Y) \n13:30 Lunch & Seva\, time for walks\, music practice\, meditation\, games with kids \n16:00 Sat Nam Rasayan Workshop mit Fateh Singh *(G) \n18:00 Light Dinner & Seva *(Y) \n19:30 Talking Circle „Erfahrung & Glaube im Alltag\, im Yoga\, in unserer Gesellschaft“ mit Amrit Kaur *(G) \n21:00 Mera Man Lotchä Shabd Kirtan *(G) \nMontag 30 \n5:00 Aquarian Sadhana (JapJi Sahib\, Yoga & Chants mit Fateh Singh *Y) \n7:30 Gurduara Kirtan *(G) \n9:00 Breakfast & Seva *(Y) \n11:00 Workshop mit Amrit Kaur „Ins Vertrauen zurückfinden“ *(G)        \n12:30 Meditation mit Amrit *(G) \n13:15 Seva & Lunch\, time for walks\, music practice\, meditation\, games with kids\, rest \n15:30 – 18:00 Yogische Massage Workshop mit Sita Priti (Y)         \n18:00 Light Dinner & Seva *(Y) \n19:30 Mera Man Lotchä Shabd Kirtan *(G) \nDienstag 31 \n5:00 Aquarian Sadhana (JapJi Sahib\, Yoga mit Amrit K. & Mantra Meditationen mit Guru Dev *Y) \n7:30 Gurduara Kirtan *(G) \n9:00 Breakfast & Seva *(Y) \n11:00 Aquarian Age Workshop mit Sat Hari Singh *(Y &/od. G)      \n12:00 Meditation *(G) \n13:15 Seva & Lunch\, time for walks\, music practice\, meditation\, games with kids\, rest \n16:00 Tune the Vagus Workshop mit Sita Priti (G)      \n18:00 Light Dinner & Seva *(Y) \n20:00 Angel Cards mit Guru Amrit *(G) \n20:00 New Year`s Eve Dancing/Clubbing *(Y)\, \n20:00 Fire Works with Kids (Field Outside) \n21:45 Seva – Preparation Silvester Gurduara (Deko\, Prashaad) (Kitchen/*G) \n22:30 Silvester Gurdwara *(G) \nMonday 1 \n6:00 New Year`s Sadhana (no Zoom) incl. 62min. Meditation *(G) \n9:00 Breakfast & Seva *(Y) \n11:00 New Year`s Morning Gurdwara *(G) \n13:00 Langar Lunch \n13:45 Seva/Clean Up *(Y) \n15:00 Good-Bye \n*(Y) = Yoga Room\n*(G) = Gurduara \nEs gibt viel Raum zum miteinander Sein\, gemeinsam Musik machen\, meditieren\, spazierengehen\, am Feuer sitzen\, Karma Yoga oder Seva machen und selbstorganisierte Redekreise etc. Wenn du selbst etwas zum Thema Sikh Dharma beitragen möchtest\, oder dich in bestimmten Bereichen oder mit deinen besonderen Talenten an bestimmter Stelle einbringen möchtest (Workshops\, Musizieren\, Gatka\, Yoga\, Kochen\,..)\, dann melde dich gerne unter satnam@guru-ram-das-aquarian-academy.com. \nÜbernachtung: Wir haben eine gemütliche Haus-Community mit 1- bis 5-Bett-Zimmern und 2 Gemeinschaftsbädern in unserem neuen Nivaas direkt nebenan in der Kleinen Wallstr. 8 für insgesamt bis zu ca. 25 Personen. Es ist ein einfaches\, aber wundervoll gemütliches Gemeinschafts-Zuhause für alle Yogi*nis und Gäste\, eine einzigartige Mischung aus Zen- und Berghütten-Flair. Wenn das Nivaas ausgebucht ist\, melden wir uns und helfen dir\, auf Zimmer und Apartments in der Altstadt auszuweichen. \nWenn wir mit deiner verbindlichen Registrierung innerhalb von 24 Stunden nichts Weiteres von dir hören\, merken wir dich verbindlich für einen Platz im Nivaas vor. \nBitte informiere uns deshalb umgehend\, falls du nicht im Nivaas übernachten möchtest\, z.B. wenn du dir ein Einzelzimmer oder ein Doppelzimmer für die Zeit wünschst. Suche dir gerne selbst eines in der Altstadt oder melde dich\, damit wir dich bei der Suche unterstützen können (satnam@guru-ram-das-aquarian-academy.com). Wir vermitteln Schlafplätze und Zimmer intern & extern nur nach regulärer Anmeldung. Bitte erkundige dich selbst nach Hausordnung oder Stornierungsbedingungen der externen Anbieter. \nDein finanz. Beitrag (incl. 2 Mahlzeiten/Tag):  \nAlle (ab 15 Jahre) Regulär: 190€\nAlle (ab 15 Jahre) We-Want-You-To-Come: 120€\nSupporter: 260€\nKinder (3-14 Jahre) 60€\nKinder (bis 2 Jahre kostenlos bei ÜN im Bett/Zimmer der Eltern\, bitte eventuelles „Lager“ selbst mitbringen) \nzzgl. Übernachtung im Nivaas: ab 128€/4 ÜN/Person (incl. Bettwäsche\, Handtücher). Kinder (3-14 Jahre) zahlen nur 68€/4 ÜN/Person incl. \nWir wollen die Kosten bewusst niedrig halten\, damit alle kommen können. Wenn du den regulären Beitrag zahlen kannst\, sind die Kosten gedeckt. Diejenigen\, die etwas mehr haben\, sind eingeladen\, den Supporter Beitrag zu zahlen oder über Paypal oder vor Ort zu spenden. Alle helfen dabei mit\, die Kids zu betreuen\, immer wieder aufzuräumen und die Mahlzeiten zuzubereiten. Wenn du Lust und Inspiration hast\, dich umfangreicher einzubringen\, kannst du deinen Beitrag ganz (als Koch oder Köchin) oder teilweise (Küche\, Kids) durch deine Mithilfe leisten. Wenn du kommen willst\, melde dich auf jedenfall bei uns.
URL:https://www.guru-ram-das-aquarian-academy.com/termine/sdt-24-25/
LOCATION:Guru Ram Das Aquarian Academy\, Kleine Wallstr. 7\, Boizenburg/Elbe\, 19258\, Deutschland
CATEGORIES:ACADEMY,Gurdwara,Main Events,Regelmäßige Veranstaltungen
ATTACH;FMTTYPE=image/png:https://www.guru-ram-das-aquarian-academy.com/wp-content/uploads/2024/10/Sikh-Dharma-Tage-202425.png
ORGANIZER;CN="Guru Ram Das Aquarian Academy":MAILTO:satnam@guru-ram-das-aquarian-academy.com
GEO:40.602991;-73.959517
X-APPLE-STRUCTURED-LOCATION;VALUE=URI;X-ADDRESS=Guru Ram Das Aquarian Academy Kleine Wallstr. 7 Boizenburg/Elbe 19258 Deutschland;X-APPLE-RADIUS=500;X-TITLE=Kleine Wallstr. 7:geo:-73.959517,40.602991
END:VEVENT
END:VCALENDAR