BEGIN:VCALENDAR
VERSION:2.0
PRODID:-//Guru Ram Das Aquarian Academy - ECPv6.15.15//NONSGML v1.0//EN
CALSCALE:GREGORIAN
METHOD:PUBLISH
X-WR-CALNAME:Guru Ram Das Aquarian Academy
X-ORIGINAL-URL:https://www.guru-ram-das-aquarian-academy.com
X-WR-CALDESC:Veranstaltungen für Guru Ram Das Aquarian Academy
REFRESH-INTERVAL;VALUE=DURATION:PT1H
X-Robots-Tag:noindex
X-PUBLISHED-TTL:PT1H
BEGIN:VTIMEZONE
TZID:Europe/Berlin
BEGIN:DAYLIGHT
TZOFFSETFROM:+0100
TZOFFSETTO:+0200
TZNAME:CEST
DTSTART:20240331T010000
END:DAYLIGHT
BEGIN:STANDARD
TZOFFSETFROM:+0200
TZOFFSETTO:+0100
TZNAME:CET
DTSTART:20241027T010000
END:STANDARD
BEGIN:DAYLIGHT
TZOFFSETFROM:+0100
TZOFFSETTO:+0200
TZNAME:CEST
DTSTART:20250330T010000
END:DAYLIGHT
BEGIN:STANDARD
TZOFFSETFROM:+0200
TZOFFSETTO:+0100
TZNAME:CET
DTSTART:20251026T010000
END:STANDARD
BEGIN:DAYLIGHT
TZOFFSETFROM:+0100
TZOFFSETTO:+0200
TZNAME:CEST
DTSTART:20260329T010000
END:DAYLIGHT
BEGIN:STANDARD
TZOFFSETFROM:+0200
TZOFFSETTO:+0100
TZNAME:CET
DTSTART:20261025T010000
END:STANDARD
END:VTIMEZONE
BEGIN:VEVENT
DTSTART;TZID=Europe/Berlin:20250618T150000
DTEND;TZID=Europe/Berlin:20250622T170000
DTSTAMP:20260425T205229
CREATED:20240507T112020Z
LAST-MODIFIED:20250317T135506Z
UID:14589-1750258800-1750611600@www.guru-ram-das-aquarian-academy.com
SUMMARY:Deutsches Kundalini Yoga Festival
DESCRIPTION:Your Content Goes HereYour Content Goes Here000Weeks0000Days00Hrs00Min00SecTickets
URL:https://www.guru-ram-das-aquarian-academy.com/termine/deutsches-kundalini-yoga-festival/
LOCATION:Hof Oberlethe\, Wardenburgerstr. 24\, Wardenburg\, 26203\, Deutschland
CATEGORIES:ACADEMY,Deutsches Kundalini Yoga Festival,Main Events
ATTACH;FMTTYPE=image/png:https://www.guru-ram-das-aquarian-academy.com/wp-content/uploads/2024/05/DKYF-2025.1.png
ORGANIZER;CN="Guru Ram Das Aquarian Academy":MAILTO:satnam@guru-ram-das-aquarian-academy.com
END:VEVENT
END:VCALENDAR